BEGIN:VCALENDAR
VERSION:2.0
PRODID:-//Aula de Sant Andreu - ECPv6.15.18//NONSGML v1.0//EN
CALSCALE:GREGORIAN
METHOD:PUBLISH
X-WR-CALNAME:Aula de Sant Andreu
X-ORIGINAL-URL:https://aulasantandreu.cat
X-WR-CALDESC:Esdeveniments per Aula de Sant Andreu
REFRESH-INTERVAL;VALUE=DURATION:PT1H
X-Robots-Tag:noindex
X-PUBLISHED-TTL:PT1H
BEGIN:VTIMEZONE
TZID:Europe/Madrid
BEGIN:DAYLIGHT
TZOFFSETFROM:+0100
TZOFFSETTO:+0200
TZNAME:CEST
DTSTART:20250330T010000
END:DAYLIGHT
BEGIN:STANDARD
TZOFFSETFROM:+0200
TZOFFSETTO:+0100
TZNAME:CET
DTSTART:20251026T010000
END:STANDARD
BEGIN:DAYLIGHT
TZOFFSETFROM:+0100
TZOFFSETTO:+0200
TZNAME:CEST
DTSTART:20260329T010000
END:DAYLIGHT
BEGIN:STANDARD
TZOFFSETFROM:+0200
TZOFFSETTO:+0100
TZNAME:CET
DTSTART:20261025T010000
END:STANDARD
BEGIN:DAYLIGHT
TZOFFSETFROM:+0100
TZOFFSETTO:+0200
TZNAME:CEST
DTSTART:20270328T010000
END:DAYLIGHT
BEGIN:STANDARD
TZOFFSETFROM:+0200
TZOFFSETTO:+0100
TZNAME:CET
DTSTART:20271031T010000
END:STANDARD
END:VTIMEZONE
BEGIN:VEVENT
DTSTART;TZID=Europe/Madrid:20260205T164500
DTEND;TZID=Europe/Madrid:20260205T183000
DTSTAMP:20260421T101652
CREATED:20251229T225154Z
LAST-MODIFIED:20251229T225257Z
UID:8012-1770309900-1770316200@aulasantandreu.cat
SUMMARY:Georges Bizet\, el geni darrere de l'òpera Carmen
DESCRIPTION:Esdeveniments				\n				\n				\n				\n					A càrrec del Sr. Ernest Francolí Farré				\n				\n					\n		\n					\n		\n				\n						\n					\n			\n						\n				\n																														\n				\n				\n				\n					Veritats i mentides de les Abelles. 2ª part				\n				\n				\n				\n									En la xerrada es parlarà de la biologia de l’abella\, la seva manera de viure i sobreviure\, com es comporten\, reproducció\, alimentació…. i també de com hi treballem els apicultors. A part de moltes curiositats  								\n				\n				\n				\n							\n			\n						\n		\n						\n				\n				\n				\n									Biblioteca Can FabraDijous 4 de juny de 2026A les 16:45 hores 								\n				\n					\n		\n				\n			\n						\n				\n																														\n				\n				\n				\n					Sr. Ernest Francolí Farré				\n				\n				\n				\n									Apicultor semi professional.Soci de l’Associació Catalana d’apicultors.Soci de apicultors ecològics associats.Divulgador apícola del departament de medi ambient\, Unió de pagesos i Escoles Agràries.Assessor apícola.Coordinador i professor de cursos d’iniciació i cooperativisme. És autor de dos llibres i una vintena de publicacions sobre aquesta temàtica.  								\n				\n					\n		\n					\n		\n				\n						\n					\n			\n						\n				\n									\n				\n				\n				\n					 \n \n				\n				\n									Conferència només disponible per a usuaris registrats.Si vols fer-te soci clica aquí: 								\n				\n				 \n\n\n\n\n\n\n\n					\n						\n									Fer-se soci\n					\n					\n				\n \n \n \n \n\n\n\n\n\n					\n						\n									Iniciar sessió
URL:https://aulasantandreu.cat/event/georges-bizet-el-geni-darrere-de-lopera-carmen/
LOCATION:Biblioteca Can Fabra + Zoom
CATEGORIES:Conferències
ATTACH;FMTTYPE=image/jpeg:https://aulasantandreu.cat/wp-content/uploads/2025/12/2-5.jpg
END:VEVENT
BEGIN:VEVENT
DTSTART;TZID=Europe/Madrid:20260212T164500
DTEND;TZID=Europe/Madrid:20260212T183000
DTSTAMP:20260421T101653
CREATED:20251229T225851Z
LAST-MODIFIED:20260103T222733Z
UID:8006-1770914700-1770921000@aulasantandreu.cat
SUMMARY:¿És realment intel·ligent la Intel·ligència Artificial?
DESCRIPTION:Esdeveniments				\n				\n				\n				\n					A càrrec del Sr. Ernest Francolí Farré				\n				\n					\n		\n					\n		\n				\n						\n					\n			\n						\n				\n																														\n				\n				\n				\n					Veritats i mentides de les Abelles. 2ª part				\n				\n				\n				\n									En la xerrada es parlarà de la biologia de l’abella\, la seva manera de viure i sobreviure\, com es comporten\, reproducció\, alimentació…. i també de com hi treballem els apicultors. A part de moltes curiositats  								\n				\n				\n				\n							\n			\n						\n		\n						\n				\n				\n				\n									Biblioteca Can FabraDijous 4 de juny de 2026A les 16:45 hores 								\n				\n					\n		\n				\n			\n						\n				\n																														\n				\n				\n				\n					Sr. Ernest Francolí Farré				\n				\n				\n				\n									Apicultor semi professional.Soci de l’Associació Catalana d’apicultors.Soci de apicultors ecològics associats.Divulgador apícola del departament de medi ambient\, Unió de pagesos i Escoles Agràries.Assessor apícola.Coordinador i professor de cursos d’iniciació i cooperativisme. És autor de dos llibres i una vintena de publicacions sobre aquesta temàtica.  								\n				\n					\n		\n					\n		\n				\n						\n					\n			\n						\n				\n									\n				\n				\n				\n					 \n \n				\n				\n									Conferència només disponible per a usuaris registrats.Si vols fer-te soci clica aquí: 								\n				\n				 \n\n\n\n\n\n\n\n					\n						\n									Fer-se soci\n					\n					\n				\n \n \n \n \n\n\n\n\n\n					\n						\n									Iniciar sessió
URL:https://aulasantandreu.cat/event/es-realment-intelligent-la-intelligencia-artificial/
LOCATION:Biblioteca Can Fabra + Zoom
CATEGORIES:Conferències
ATTACH;FMTTYPE=image/jpeg:https://aulasantandreu.cat/wp-content/uploads/2025/12/2-12.jpg
END:VEVENT
BEGIN:VEVENT
DTSTART;TZID=Europe/Madrid:20260219T164500
DTEND;TZID=Europe/Madrid:20260219T183000
DTSTAMP:20260421T101653
CREATED:20251229T230334Z
LAST-MODIFIED:20260103T223402Z
UID:8014-1771519500-1771525800@aulasantandreu.cat
SUMMARY:¿L’ENGINY (IN) VISIBLE?
DESCRIPTION:Esdeveniments				\n				\n				\n				\n					A càrrec del Sr. Ernest Francolí Farré				\n				\n					\n		\n					\n		\n				\n						\n					\n			\n						\n				\n																														\n				\n				\n				\n					Veritats i mentides de les Abelles. 2ª part				\n				\n				\n				\n									En la xerrada es parlarà de la biologia de l’abella\, la seva manera de viure i sobreviure\, com es comporten\, reproducció\, alimentació…. i també de com hi treballem els apicultors. A part de moltes curiositats  								\n				\n				\n				\n							\n			\n						\n		\n						\n				\n				\n				\n									Biblioteca Can FabraDijous 4 de juny de 2026A les 16:45 hores 								\n				\n					\n		\n				\n			\n						\n				\n																														\n				\n				\n				\n					Sr. Ernest Francolí Farré				\n				\n				\n				\n									Apicultor semi professional.Soci de l’Associació Catalana d’apicultors.Soci de apicultors ecològics associats.Divulgador apícola del departament de medi ambient\, Unió de pagesos i Escoles Agràries.Assessor apícola.Coordinador i professor de cursos d’iniciació i cooperativisme. És autor de dos llibres i una vintena de publicacions sobre aquesta temàtica.  								\n				\n					\n		\n					\n		\n				\n						\n					\n			\n						\n				\n									\n				\n				\n				\n					 \n \n				\n				\n									Conferència només disponible per a usuaris registrats.Si vols fer-te soci clica aquí: 								\n				\n				 \n\n\n\n\n\n\n\n					\n						\n									Fer-se soci\n					\n					\n				\n \n \n \n \n\n\n\n\n\n					\n						\n									Iniciar sessió
URL:https://aulasantandreu.cat/event/lenginy-in-visible/
LOCATION:Biblioteca Can Fabra + Zoom
CATEGORIES:Conferències
ATTACH;FMTTYPE=image/jpeg:https://aulasantandreu.cat/wp-content/uploads/2025/12/2-19.jpg
END:VEVENT
BEGIN:VEVENT
DTSTART;TZID=Europe/Madrid:20260226T164500
DTEND;TZID=Europe/Madrid:20260226T183000
DTSTAMP:20260421T101653
CREATED:20260222T124136Z
LAST-MODIFIED:20260222T124347Z
UID:8080-1772124300-1772130600@aulasantandreu.cat
SUMMARY:Els orígens humans: dels Australopithecus als Homo erectus
DESCRIPTION:Esdeveniments				\n				\n				\n				\n					A càrrec del Sr. Ernest Francolí Farré				\n				\n					\n		\n					\n		\n				\n						\n					\n			\n						\n				\n																														\n				\n				\n				\n					Veritats i mentides de les Abelles. 2ª part				\n				\n				\n				\n									En la xerrada es parlarà de la biologia de l’abella\, la seva manera de viure i sobreviure\, com es comporten\, reproducció\, alimentació…. i també de com hi treballem els apicultors. A part de moltes curiositats  								\n				\n				\n				\n							\n			\n						\n		\n						\n				\n				\n				\n									Biblioteca Can FabraDijous 4 de juny de 2026A les 16:45 hores 								\n				\n					\n		\n				\n			\n						\n				\n																														\n				\n				\n				\n					Sr. Ernest Francolí Farré				\n				\n				\n				\n									Apicultor semi professional.Soci de l’Associació Catalana d’apicultors.Soci de apicultors ecològics associats.Divulgador apícola del departament de medi ambient\, Unió de pagesos i Escoles Agràries.Assessor apícola.Coordinador i professor de cursos d’iniciació i cooperativisme. És autor de dos llibres i una vintena de publicacions sobre aquesta temàtica.  								\n				\n					\n		\n					\n		\n				\n						\n					\n			\n						\n				\n									\n				\n				\n				\n					 \n \n				\n				\n									Conferència només disponible per a usuaris registrats.Si vols fer-te soci clica aquí: 								\n				\n				 \n\n\n\n\n\n\n\n					\n						\n									Fer-se soci\n					\n					\n				\n \n \n \n \n\n\n\n\n\n					\n						\n									Iniciar sessió
URL:https://aulasantandreu.cat/event/els-origens-humans/
LOCATION:Biblioteca Can Fabra + Zoom
CATEGORIES:Conferències
ATTACH;FMTTYPE=image/jpeg:https://aulasantandreu.cat/wp-content/uploads/2026/02/Els-origens-humans.jpg
END:VEVENT
END:VCALENDAR